BEGIN:VCALENDAR
VERSION:2.0
PRODID:-//Tiki Davis - ECPv6.15.20//NONSGML v1.0//EN
CALSCALE:GREGORIAN
METHOD:PUBLISH
X-WR-CALNAME:Tiki Davis
X-ORIGINAL-URL:https://tikidavis.com
X-WR-CALDESC:Events for Tiki Davis
REFRESH-INTERVAL;VALUE=DURATION:PT1H
X-Robots-Tag:noindex
X-PUBLISHED-TTL:PT1H
BEGIN:VTIMEZONE
TZID:America/Chicago
BEGIN:DAYLIGHT
TZOFFSETFROM:-0600
TZOFFSETTO:-0500
TZNAME:CDT
DTSTART:20180311T080000
END:DAYLIGHT
BEGIN:STANDARD
TZOFFSETFROM:-0500
TZOFFSETTO:-0600
TZNAME:CST
DTSTART:20181104T070000
END:STANDARD
BEGIN:DAYLIGHT
TZOFFSETFROM:-0600
TZOFFSETTO:-0500
TZNAME:CDT
DTSTART:20190310T080000
END:DAYLIGHT
BEGIN:STANDARD
TZOFFSETFROM:-0500
TZOFFSETTO:-0600
TZNAME:CST
DTSTART:20191103T070000
END:STANDARD
BEGIN:DAYLIGHT
TZOFFSETFROM:-0600
TZOFFSETTO:-0500
TZNAME:CDT
DTSTART:20200308T080000
END:DAYLIGHT
BEGIN:STANDARD
TZOFFSETFROM:-0500
TZOFFSETTO:-0600
TZNAME:CST
DTSTART:20201101T070000
END:STANDARD
END:VTIMEZONE
BEGIN:VEVENT
DTSTART;TZID=America/Chicago:20190409T100000
DTEND;TZID=America/Chicago:20190410T170000
DTSTAMP:20260424T201504
CREATED:20181128T214840Z
LAST-MODIFIED:20181128T230305Z
UID:10000007-1554804000-1554915600@tikidavis.com
SUMMARY:Bigger Than Football
DESCRIPTION:Tiki Davis\, William Hollis\, and Joe Beene team up to give you a powerful event about overcoming life events. The Bigger Than Football tour coming to a city near you.
URL:https://tikidavis.com/event/bigger-than-football/2019-04-09/
LOCATION:TBA
CATEGORIES:Conference,Speaking
ATTACH;FMTTYPE=image/jpeg:https://tikidavis.com/wp-content/uploads/ShitTalking.jpg
END:VEVENT
BEGIN:VEVENT
DTSTART;TZID=America/Chicago:20190312T100000
DTEND;TZID=America/Chicago:20190313T170000
DTSTAMP:20260424T201504
CREATED:20181128T214840Z
LAST-MODIFIED:20181128T230305Z
UID:10000006-1552384800-1552496400@tikidavis.com
SUMMARY:Bigger Than Football
DESCRIPTION:Tiki Davis\, William Hollis\, and Joe Beene team up to give you a powerful event about overcoming life events. The Bigger Than Football tour coming to a city near you.
URL:https://tikidavis.com/event/bigger-than-football/2019-03-12/
LOCATION:TBA
CATEGORIES:Conference,Speaking
ATTACH;FMTTYPE=image/jpeg:https://tikidavis.com/wp-content/uploads/ShitTalking.jpg
END:VEVENT
END:VCALENDAR