BEGIN:VCALENDAR
VERSION:2.0
PRODID:-//Tiki Davis - ECPv6.15.20//NONSGML v1.0//EN
CALSCALE:GREGORIAN
METHOD:PUBLISH
X-WR-CALNAME:Tiki Davis
X-ORIGINAL-URL:https://tikidavis.com
X-WR-CALDESC:Events for Tiki Davis
REFRESH-INTERVAL;VALUE=DURATION:PT1H
X-Robots-Tag:noindex
X-PUBLISHED-TTL:PT1H
BEGIN:VTIMEZONE
TZID:America/Chicago
BEGIN:DAYLIGHT
TZOFFSETFROM:-0600
TZOFFSETTO:-0500
TZNAME:CDT
DTSTART:20190310T080000
END:DAYLIGHT
BEGIN:STANDARD
TZOFFSETFROM:-0500
TZOFFSETTO:-0600
TZNAME:CST
DTSTART:20191103T070000
END:STANDARD
BEGIN:DAYLIGHT
TZOFFSETFROM:-0600
TZOFFSETTO:-0500
TZNAME:CDT
DTSTART:20200308T080000
END:DAYLIGHT
BEGIN:STANDARD
TZOFFSETFROM:-0500
TZOFFSETTO:-0600
TZNAME:CST
DTSTART:20201101T070000
END:STANDARD
BEGIN:DAYLIGHT
TZOFFSETFROM:-0600
TZOFFSETTO:-0500
TZNAME:CDT
DTSTART:20210314T080000
END:DAYLIGHT
BEGIN:STANDARD
TZOFFSETFROM:-0500
TZOFFSETTO:-0600
TZNAME:CST
DTSTART:20211107T070000
END:STANDARD
BEGIN:DAYLIGHT
TZOFFSETFROM:-0600
TZOFFSETTO:-0500
TZNAME:CDT
DTSTART:20220313T080000
END:DAYLIGHT
BEGIN:STANDARD
TZOFFSETFROM:-0500
TZOFFSETTO:-0600
TZNAME:CST
DTSTART:20221106T070000
END:STANDARD
BEGIN:DAYLIGHT
TZOFFSETFROM:-0600
TZOFFSETTO:-0500
TZNAME:CDT
DTSTART:20230312T080000
END:DAYLIGHT
BEGIN:STANDARD
TZOFFSETFROM:-0500
TZOFFSETTO:-0600
TZNAME:CST
DTSTART:20231105T070000
END:STANDARD
END:VTIMEZONE
BEGIN:VEVENT
DTSTART;TZID=America/Chicago:20220510T100000
DTEND;TZID=America/Chicago:20220511T170000
DTSTAMP:20260423T193407
CREATED:20181128T214840Z
LAST-MODIFIED:20181128T230305Z
UID:10000044-1652176800-1652288400@tikidavis.com
SUMMARY:Bigger Than Football
DESCRIPTION:Tiki Davis\, William Hollis\, and Joe Beene team up to give you a powerful event about overcoming life events. The Bigger Than Football tour coming to a city near you.
URL:https://tikidavis.com/event/bigger-than-football/2022-05-10/
LOCATION:TBA
CATEGORIES:Conference,Speaking
ATTACH;FMTTYPE=image/jpeg:https://tikidavis.com/wp-content/uploads/ShitTalking.jpg
END:VEVENT
BEGIN:VEVENT
DTSTART;TZID=America/Chicago:20220412T100000
DTEND;TZID=America/Chicago:20220413T170000
DTSTAMP:20260423T193407
CREATED:20181128T214840Z
LAST-MODIFIED:20181128T230305Z
UID:10000043-1649757600-1649869200@tikidavis.com
SUMMARY:Bigger Than Football
DESCRIPTION:Tiki Davis\, William Hollis\, and Joe Beene team up to give you a powerful event about overcoming life events. The Bigger Than Football tour coming to a city near you.
URL:https://tikidavis.com/event/bigger-than-football/2022-04-12/
LOCATION:TBA
CATEGORIES:Conference,Speaking
ATTACH;FMTTYPE=image/jpeg:https://tikidavis.com/wp-content/uploads/ShitTalking.jpg
END:VEVENT
BEGIN:VEVENT
DTSTART;TZID=America/Chicago:20220308T100000
DTEND;TZID=America/Chicago:20220309T170000
DTSTAMP:20260423T193407
CREATED:20181128T214840Z
LAST-MODIFIED:20181128T230305Z
UID:10000042-1646733600-1646845200@tikidavis.com
SUMMARY:Bigger Than Football
DESCRIPTION:Tiki Davis\, William Hollis\, and Joe Beene team up to give you a powerful event about overcoming life events. The Bigger Than Football tour coming to a city near you.
URL:https://tikidavis.com/event/bigger-than-football/2022-03-08/
LOCATION:TBA
CATEGORIES:Conference,Speaking
ATTACH;FMTTYPE=image/jpeg:https://tikidavis.com/wp-content/uploads/ShitTalking.jpg
END:VEVENT
BEGIN:VEVENT
DTSTART;TZID=America/Chicago:20220208T100000
DTEND;TZID=America/Chicago:20220209T170000
DTSTAMP:20260423T193407
CREATED:20181128T214840Z
LAST-MODIFIED:20181128T230305Z
UID:10000041-1644314400-1644426000@tikidavis.com
SUMMARY:Bigger Than Football
DESCRIPTION:Tiki Davis\, William Hollis\, and Joe Beene team up to give you a powerful event about overcoming life events. The Bigger Than Football tour coming to a city near you.
URL:https://tikidavis.com/event/bigger-than-football/2022-02-08/
LOCATION:TBA
CATEGORIES:Conference,Speaking
ATTACH;FMTTYPE=image/jpeg:https://tikidavis.com/wp-content/uploads/ShitTalking.jpg
END:VEVENT
BEGIN:VEVENT
DTSTART;TZID=America/Chicago:20220111T100000
DTEND;TZID=America/Chicago:20220112T170000
DTSTAMP:20260423T193407
CREATED:20181128T214840Z
LAST-MODIFIED:20181128T230305Z
UID:10000040-1641895200-1642006800@tikidavis.com
SUMMARY:Bigger Than Football
DESCRIPTION:Tiki Davis\, William Hollis\, and Joe Beene team up to give you a powerful event about overcoming life events. The Bigger Than Football tour coming to a city near you.
URL:https://tikidavis.com/event/bigger-than-football/2022-01-11/
LOCATION:TBA
CATEGORIES:Conference,Speaking
ATTACH;FMTTYPE=image/jpeg:https://tikidavis.com/wp-content/uploads/ShitTalking.jpg
END:VEVENT
BEGIN:VEVENT
DTSTART;TZID=America/Chicago:20211214T100000
DTEND;TZID=America/Chicago:20211215T170000
DTSTAMP:20260423T193407
CREATED:20181128T214840Z
LAST-MODIFIED:20181128T230305Z
UID:10000039-1639476000-1639587600@tikidavis.com
SUMMARY:Bigger Than Football
DESCRIPTION:Tiki Davis\, William Hollis\, and Joe Beene team up to give you a powerful event about overcoming life events. The Bigger Than Football tour coming to a city near you.
URL:https://tikidavis.com/event/bigger-than-football/2021-12-14/
LOCATION:TBA
CATEGORIES:Conference,Speaking
ATTACH;FMTTYPE=image/jpeg:https://tikidavis.com/wp-content/uploads/ShitTalking.jpg
END:VEVENT
BEGIN:VEVENT
DTSTART;TZID=America/Chicago:20211207T080000
DTEND;TZID=America/Chicago:20211207T170000
DTSTAMP:20260423T193407
CREATED:20210820T164816Z
LAST-MODIFIED:20210820T164821Z
UID:10000054-1638864000-1638896400@tikidavis.com
SUMMARY:Tiki To Speak @ Pittsburg Steelers
DESCRIPTION:
URL:https://tikidavis.com/event/tiki-to-speak-pittsburg-steelers/
END:VEVENT
BEGIN:VEVENT
DTSTART;TZID=America/Chicago:20211109T100000
DTEND;TZID=America/Chicago:20211110T170000
DTSTAMP:20260423T193407
CREATED:20181128T214840Z
LAST-MODIFIED:20181128T230305Z
UID:10000038-1636452000-1636563600@tikidavis.com
SUMMARY:Bigger Than Football
DESCRIPTION:Tiki Davis\, William Hollis\, and Joe Beene team up to give you a powerful event about overcoming life events. The Bigger Than Football tour coming to a city near you.
URL:https://tikidavis.com/event/bigger-than-football/2021-11-09/
LOCATION:TBA
CATEGORIES:Conference,Speaking
ATTACH;FMTTYPE=image/jpeg:https://tikidavis.com/wp-content/uploads/ShitTalking.jpg
END:VEVENT
BEGIN:VEVENT
DTSTART;TZID=America/Chicago:20211012T100000
DTEND;TZID=America/Chicago:20211013T170000
DTSTAMP:20260423T193407
CREATED:20181128T214840Z
LAST-MODIFIED:20181128T230305Z
UID:10000037-1634032800-1634144400@tikidavis.com
SUMMARY:Bigger Than Football
DESCRIPTION:Tiki Davis\, William Hollis\, and Joe Beene team up to give you a powerful event about overcoming life events. The Bigger Than Football tour coming to a city near you.
URL:https://tikidavis.com/event/bigger-than-football/2021-10-12/
LOCATION:TBA
CATEGORIES:Conference,Speaking
ATTACH;FMTTYPE=image/jpeg:https://tikidavis.com/wp-content/uploads/ShitTalking.jpg
END:VEVENT
BEGIN:VEVENT
DTSTART;TZID=America/Chicago:20210914T100000
DTEND;TZID=America/Chicago:20210915T170000
DTSTAMP:20260423T193407
CREATED:20181128T214840Z
LAST-MODIFIED:20181128T230305Z
UID:10000036-1631613600-1631725200@tikidavis.com
SUMMARY:Bigger Than Football
DESCRIPTION:Tiki Davis\, William Hollis\, and Joe Beene team up to give you a powerful event about overcoming life events. The Bigger Than Football tour coming to a city near you.
URL:https://tikidavis.com/event/bigger-than-football/2021-09-14/
LOCATION:TBA
CATEGORIES:Conference,Speaking
ATTACH;FMTTYPE=image/jpeg:https://tikidavis.com/wp-content/uploads/ShitTalking.jpg
END:VEVENT
BEGIN:VEVENT
DTSTART;TZID=America/Chicago:20210810T100000
DTEND;TZID=America/Chicago:20210811T170000
DTSTAMP:20260423T193407
CREATED:20181128T214840Z
LAST-MODIFIED:20181128T230305Z
UID:10000035-1628589600-1628701200@tikidavis.com
SUMMARY:Bigger Than Football
DESCRIPTION:Tiki Davis\, William Hollis\, and Joe Beene team up to give you a powerful event about overcoming life events. The Bigger Than Football tour coming to a city near you.
URL:https://tikidavis.com/event/bigger-than-football/2021-08-10/
LOCATION:TBA
CATEGORIES:Conference,Speaking
ATTACH;FMTTYPE=image/jpeg:https://tikidavis.com/wp-content/uploads/ShitTalking.jpg
END:VEVENT
BEGIN:VEVENT
DTSTART;TZID=America/Chicago:20210713T100000
DTEND;TZID=America/Chicago:20210714T170000
DTSTAMP:20260423T193407
CREATED:20181128T214840Z
LAST-MODIFIED:20181128T230305Z
UID:10000034-1626170400-1626282000@tikidavis.com
SUMMARY:Bigger Than Football
DESCRIPTION:Tiki Davis\, William Hollis\, and Joe Beene team up to give you a powerful event about overcoming life events. The Bigger Than Football tour coming to a city near you.
URL:https://tikidavis.com/event/bigger-than-football/2021-07-13/
LOCATION:TBA
CATEGORIES:Conference,Speaking
ATTACH;FMTTYPE=image/jpeg:https://tikidavis.com/wp-content/uploads/ShitTalking.jpg
END:VEVENT
BEGIN:VEVENT
DTSTART;TZID=America/Chicago:20210608T100000
DTEND;TZID=America/Chicago:20210609T170000
DTSTAMP:20260423T193407
CREATED:20181128T214840Z
LAST-MODIFIED:20181128T230305Z
UID:10000033-1623146400-1623258000@tikidavis.com
SUMMARY:Bigger Than Football
DESCRIPTION:Tiki Davis\, William Hollis\, and Joe Beene team up to give you a powerful event about overcoming life events. The Bigger Than Football tour coming to a city near you.
URL:https://tikidavis.com/event/bigger-than-football/2021-06-08/
LOCATION:TBA
CATEGORIES:Conference,Speaking
ATTACH;FMTTYPE=image/jpeg:https://tikidavis.com/wp-content/uploads/ShitTalking.jpg
END:VEVENT
BEGIN:VEVENT
DTSTART;TZID=America/Chicago:20210511T100000
DTEND;TZID=America/Chicago:20210512T170000
DTSTAMP:20260423T193407
CREATED:20181128T214840Z
LAST-MODIFIED:20181128T230305Z
UID:10000032-1620727200-1620838800@tikidavis.com
SUMMARY:Bigger Than Football
DESCRIPTION:Tiki Davis\, William Hollis\, and Joe Beene team up to give you a powerful event about overcoming life events. The Bigger Than Football tour coming to a city near you.
URL:https://tikidavis.com/event/bigger-than-football/2021-05-11/
LOCATION:TBA
CATEGORIES:Conference,Speaking
ATTACH;FMTTYPE=image/jpeg:https://tikidavis.com/wp-content/uploads/ShitTalking.jpg
END:VEVENT
BEGIN:VEVENT
DTSTART;TZID=America/Chicago:20210413T100000
DTEND;TZID=America/Chicago:20210414T170000
DTSTAMP:20260423T193407
CREATED:20181128T214840Z
LAST-MODIFIED:20181128T230305Z
UID:10000031-1618308000-1618419600@tikidavis.com
SUMMARY:Bigger Than Football
DESCRIPTION:Tiki Davis\, William Hollis\, and Joe Beene team up to give you a powerful event about overcoming life events. The Bigger Than Football tour coming to a city near you.
URL:https://tikidavis.com/event/bigger-than-football/2021-04-13/
LOCATION:TBA
CATEGORIES:Conference,Speaking
ATTACH;FMTTYPE=image/jpeg:https://tikidavis.com/wp-content/uploads/ShitTalking.jpg
END:VEVENT
BEGIN:VEVENT
DTSTART;TZID=America/Chicago:20210309T100000
DTEND;TZID=America/Chicago:20210310T170000
DTSTAMP:20260423T193407
CREATED:20181128T214840Z
LAST-MODIFIED:20181128T230305Z
UID:10000030-1615284000-1615395600@tikidavis.com
SUMMARY:Bigger Than Football
DESCRIPTION:Tiki Davis\, William Hollis\, and Joe Beene team up to give you a powerful event about overcoming life events. The Bigger Than Football tour coming to a city near you.
URL:https://tikidavis.com/event/bigger-than-football/2021-03-09/
LOCATION:TBA
CATEGORIES:Conference,Speaking
ATTACH;FMTTYPE=image/jpeg:https://tikidavis.com/wp-content/uploads/ShitTalking.jpg
END:VEVENT
BEGIN:VEVENT
DTSTART;TZID=America/Chicago:20210209T100000
DTEND;TZID=America/Chicago:20210210T170000
DTSTAMP:20260423T193407
CREATED:20181128T214840Z
LAST-MODIFIED:20181128T230305Z
UID:10000029-1612864800-1612976400@tikidavis.com
SUMMARY:Bigger Than Football
DESCRIPTION:Tiki Davis\, William Hollis\, and Joe Beene team up to give you a powerful event about overcoming life events. The Bigger Than Football tour coming to a city near you.
URL:https://tikidavis.com/event/bigger-than-football/2021-02-09/
LOCATION:TBA
CATEGORIES:Conference,Speaking
ATTACH;FMTTYPE=image/jpeg:https://tikidavis.com/wp-content/uploads/ShitTalking.jpg
END:VEVENT
BEGIN:VEVENT
DTSTART;TZID=America/Chicago:20210112T100000
DTEND;TZID=America/Chicago:20210113T170000
DTSTAMP:20260423T193407
CREATED:20181128T214840Z
LAST-MODIFIED:20181128T230305Z
UID:10000028-1610445600-1610557200@tikidavis.com
SUMMARY:Bigger Than Football
DESCRIPTION:Tiki Davis\, William Hollis\, and Joe Beene team up to give you a powerful event about overcoming life events. The Bigger Than Football tour coming to a city near you.
URL:https://tikidavis.com/event/bigger-than-football/2021-01-12/
LOCATION:TBA
CATEGORIES:Conference,Speaking
ATTACH;FMTTYPE=image/jpeg:https://tikidavis.com/wp-content/uploads/ShitTalking.jpg
END:VEVENT
BEGIN:VEVENT
DTSTART;TZID=America/Chicago:20201208T100000
DTEND;TZID=America/Chicago:20201209T170000
DTSTAMP:20260423T193407
CREATED:20181128T214840Z
LAST-MODIFIED:20181128T230305Z
UID:10000027-1607421600-1607533200@tikidavis.com
SUMMARY:Bigger Than Football
DESCRIPTION:Tiki Davis\, William Hollis\, and Joe Beene team up to give you a powerful event about overcoming life events. The Bigger Than Football tour coming to a city near you.
URL:https://tikidavis.com/event/bigger-than-football/2020-12-08/
LOCATION:TBA
CATEGORIES:Conference,Speaking
ATTACH;FMTTYPE=image/jpeg:https://tikidavis.com/wp-content/uploads/ShitTalking.jpg
END:VEVENT
BEGIN:VEVENT
DTSTART;TZID=America/Chicago:20201110T100000
DTEND;TZID=America/Chicago:20201111T170000
DTSTAMP:20260423T193407
CREATED:20181128T214840Z
LAST-MODIFIED:20181128T230305Z
UID:10000026-1605002400-1605114000@tikidavis.com
SUMMARY:Bigger Than Football
DESCRIPTION:Tiki Davis\, William Hollis\, and Joe Beene team up to give you a powerful event about overcoming life events. The Bigger Than Football tour coming to a city near you.
URL:https://tikidavis.com/event/bigger-than-football/2020-11-10/
LOCATION:TBA
CATEGORIES:Conference,Speaking
ATTACH;FMTTYPE=image/jpeg:https://tikidavis.com/wp-content/uploads/ShitTalking.jpg
END:VEVENT
BEGIN:VEVENT
DTSTART;TZID=America/Chicago:20201013T100000
DTEND;TZID=America/Chicago:20201014T170000
DTSTAMP:20260423T193407
CREATED:20181128T214840Z
LAST-MODIFIED:20181128T230305Z
UID:10000025-1602583200-1602694800@tikidavis.com
SUMMARY:Bigger Than Football
DESCRIPTION:Tiki Davis\, William Hollis\, and Joe Beene team up to give you a powerful event about overcoming life events. The Bigger Than Football tour coming to a city near you.
URL:https://tikidavis.com/event/bigger-than-football/2020-10-13/
LOCATION:TBA
CATEGORIES:Conference,Speaking
ATTACH;FMTTYPE=image/jpeg:https://tikidavis.com/wp-content/uploads/ShitTalking.jpg
END:VEVENT
BEGIN:VEVENT
DTSTART;TZID=America/Chicago:20200908T100000
DTEND;TZID=America/Chicago:20200909T170000
DTSTAMP:20260423T193407
CREATED:20181128T214840Z
LAST-MODIFIED:20181128T230305Z
UID:10000024-1599559200-1599670800@tikidavis.com
SUMMARY:Bigger Than Football
DESCRIPTION:Tiki Davis\, William Hollis\, and Joe Beene team up to give you a powerful event about overcoming life events. The Bigger Than Football tour coming to a city near you.
URL:https://tikidavis.com/event/bigger-than-football/2020-09-08/
LOCATION:TBA
CATEGORIES:Conference,Speaking
ATTACH;FMTTYPE=image/jpeg:https://tikidavis.com/wp-content/uploads/ShitTalking.jpg
END:VEVENT
BEGIN:VEVENT
DTSTART;TZID=America/Chicago:20200811T100000
DTEND;TZID=America/Chicago:20200812T170000
DTSTAMP:20260423T193407
CREATED:20181128T214840Z
LAST-MODIFIED:20181128T230305Z
UID:10000023-1597140000-1597251600@tikidavis.com
SUMMARY:Bigger Than Football
DESCRIPTION:Tiki Davis\, William Hollis\, and Joe Beene team up to give you a powerful event about overcoming life events. The Bigger Than Football tour coming to a city near you.
URL:https://tikidavis.com/event/bigger-than-football/2020-08-11/
LOCATION:TBA
CATEGORIES:Conference,Speaking
ATTACH;FMTTYPE=image/jpeg:https://tikidavis.com/wp-content/uploads/ShitTalking.jpg
END:VEVENT
BEGIN:VEVENT
DTSTART;TZID=America/Chicago:20200714T100000
DTEND;TZID=America/Chicago:20200715T170000
DTSTAMP:20260423T193407
CREATED:20181128T214840Z
LAST-MODIFIED:20181128T230305Z
UID:10000022-1594720800-1594832400@tikidavis.com
SUMMARY:Bigger Than Football
DESCRIPTION:Tiki Davis\, William Hollis\, and Joe Beene team up to give you a powerful event about overcoming life events. The Bigger Than Football tour coming to a city near you.
URL:https://tikidavis.com/event/bigger-than-football/2020-07-14/
LOCATION:TBA
CATEGORIES:Conference,Speaking
ATTACH;FMTTYPE=image/jpeg:https://tikidavis.com/wp-content/uploads/ShitTalking.jpg
END:VEVENT
BEGIN:VEVENT
DTSTART;TZID=America/Chicago:20200609T100000
DTEND;TZID=America/Chicago:20200610T170000
DTSTAMP:20260423T193407
CREATED:20181128T214840Z
LAST-MODIFIED:20181128T230305Z
UID:10000021-1591696800-1591808400@tikidavis.com
SUMMARY:Bigger Than Football
DESCRIPTION:Tiki Davis\, William Hollis\, and Joe Beene team up to give you a powerful event about overcoming life events. The Bigger Than Football tour coming to a city near you.
URL:https://tikidavis.com/event/bigger-than-football/2020-06-09/
LOCATION:TBA
CATEGORIES:Conference,Speaking
ATTACH;FMTTYPE=image/jpeg:https://tikidavis.com/wp-content/uploads/ShitTalking.jpg
END:VEVENT
BEGIN:VEVENT
DTSTART;TZID=America/Chicago:20200512T100000
DTEND;TZID=America/Chicago:20200513T170000
DTSTAMP:20260423T193407
CREATED:20181128T214840Z
LAST-MODIFIED:20181128T230305Z
UID:10000020-1589277600-1589389200@tikidavis.com
SUMMARY:Bigger Than Football
DESCRIPTION:Tiki Davis\, William Hollis\, and Joe Beene team up to give you a powerful event about overcoming life events. The Bigger Than Football tour coming to a city near you.
URL:https://tikidavis.com/event/bigger-than-football/2020-05-12/
LOCATION:TBA
CATEGORIES:Conference,Speaking
ATTACH;FMTTYPE=image/jpeg:https://tikidavis.com/wp-content/uploads/ShitTalking.jpg
END:VEVENT
BEGIN:VEVENT
DTSTART;TZID=America/Chicago:20200501T170000
DTEND;TZID=America/Chicago:20200501T210000
DTSTAMP:20260423T193407
CREATED:20200306T003643Z
LAST-MODIFIED:20200621T081136Z
UID:10000052-1588352400-1588366800@tikidavis.com
SUMMARY:TEDxOptimistPark 2020 Vision - A New Energy
DESCRIPTION:TEDx speakers tackle humanity’s toughest questions\, attempting to answer them with innovation\, enterprise and enduring optimism. TEDx is an event that brings together the world’s leading thinkers and doers to share ideas that matter in any discipline — technology\, entertainment\, design\, science\, humanities\, business\, development. \nSpeakers: \n–Tiki Davis\, Entrepreneur and Thought Leader \n-Dr. Scott Muri\, Ector County Independent School District Superintendent of Schools \n-Tracee Bentley\, President and CEO of Permian Strategic Partnership \n-Amanda Lopez\, LPC\, NCC\, R-DMT\, Licensed Professional Counselor and Registered Dance Therapist \n-Dr. Ray Perryman\, World Renowned Economist and President/CEO Perryman Group \n-Sandra Woodley\, President of the University of Texas of the Permian Basin \n-Barry Marks\, President ICA Radio\, EVP MCM Family of Hotels \nSponsors: \nOdessa Marriott Hotel & Conference Center \nOdessa College \nYoung Professionals of Odessa \nCVA Advertising & Marketing\, Ltd. \nUnited Way of Odessa
URL:https://tikidavis.com/event/tedxoptimistpark-2020-vision-a-new-energy/
LOCATION:The Globe of the Great Southwest\, 2308 Shakespeare Road\, Odessa\, TX\, 79761\, United States
CATEGORIES:Speaking
ATTACH;FMTTYPE=image/jpeg:https://tikidavis.com/wp-content/uploads/https___cdn.evbuc_.com_images_94463705_243709675969_1_original.jpg
END:VEVENT
BEGIN:VEVENT
DTSTART;TZID=America/Chicago:20200414T100000
DTEND;TZID=America/Chicago:20200415T170000
DTSTAMP:20260423T193407
CREATED:20181128T214840Z
LAST-MODIFIED:20181128T230305Z
UID:10000019-1586858400-1586970000@tikidavis.com
SUMMARY:Bigger Than Football
DESCRIPTION:Tiki Davis\, William Hollis\, and Joe Beene team up to give you a powerful event about overcoming life events. The Bigger Than Football tour coming to a city near you.
URL:https://tikidavis.com/event/bigger-than-football/2020-04-14/
LOCATION:TBA
CATEGORIES:Conference,Speaking
ATTACH;FMTTYPE=image/jpeg:https://tikidavis.com/wp-content/uploads/ShitTalking.jpg
END:VEVENT
BEGIN:VEVENT
DTSTART;TZID=America/Chicago:20200409T000000
DTEND;TZID=America/Chicago:20200409T235900
DTSTAMP:20260423T193407
CREATED:20200306T032252Z
LAST-MODIFIED:20200306T033147Z
UID:10000053-1586390400-1586476740@tikidavis.com
SUMMARY:World Civility Day is April 9. Join us for the only event of its kind in the country
DESCRIPTION:Community Civility Counts will hold its fifth annual World Civility Day events on Thursday\, April 9\, 2020.  A full-day of civility-themed activities will be held at Majestic Star Casino Event Center in Gary and an awards dinner in the evening at the Avalon Manor in Merrillville. \n\n\n\n Community Civility Counts started as an initiative of the Gary Chamber of Commerce Public Policy Committee and  \n\n\n\nit has expanded to include many partners both locally and nationally. It was launched in 2015 at a press conference held in the Gary Chamber board room. \n\n\n\n“As the President/CEO of the Gary Chamber of Commerce and speaking on behalf of our board of directors\, I am elated over the scope and success of the Community Civility Counts initiative\,” said Chuck Hughes. “We could not have envisioned early on that CCC would now be recognized in several areas of the world.”  \n\n\n\nIts fourth World Civility Day event\, April 11\, 2019\, was sold out with 300 people from Indiana and nine other states and three countries. UN Ambassador Dr. Clyde Rivers and internationally known songstress Ms. Melba Moore\, were the special evening guests at the Avalon Manor in Merrillville. \n\n\n\nDr. Rivers is expected to return for this years’ World Civility Day. \n\n\n\nWorld Civility Day will kickoff with a press conference at City of Gary City Hall\, 401 Broadway\, on Wednesday\, April\, 8th at 11:00am. On Thursday\, April 9th at 8:30am is the opening ceremonies conducted by Dr. Rivers\, followed by workshops $30\, at 9:00am – 3:00pm at Majestic Star Casino Event Center. Workshops include lunch.  \n\n\n\nThe awards dinner\, $70\, held at the Avalon Manor in Merrillville\, will include featured speakers and civility awards presented by Community Civility Counts. \n\n\n\nSponsorships\, tickets and special package prices are available through  \n\n\n\nthe Gary Chamber of Commerce at (219) 885-7407.  \n\n\n\nUpdate information on the days’ activities will be coming as the  \n\n\n\nworkshops schedules are worked out and confirmation from  \n\n\n\nspecial guests received.  \n\n\n\n To follow the activities of Community Civility Counts\, visit and like  \n\n\n\nthe Civility Counts page on Facebook.     
URL:https://tikidavis.com/event/world-civility-day-is-april-9-join-us-for-the-only-event-of-its-kind-in-the-country/
LOCATION:Majestic Star Casino\, 1 Buffington Harbor Dr\, Gary\, Indiana\, 46406\, United States
CATEGORIES:Conference
ATTACH;FMTTYPE=image/png:https://tikidavis.com/wp-content/uploads/World-Civility-Day-2017-Logo-002.png
END:VEVENT
BEGIN:VEVENT
DTSTART;TZID=America/Chicago:20200310T100000
DTEND;TZID=America/Chicago:20200311T170000
DTSTAMP:20260423T193407
CREATED:20181128T214840Z
LAST-MODIFIED:20181128T230305Z
UID:10000018-1583834400-1583946000@tikidavis.com
SUMMARY:Bigger Than Football
DESCRIPTION:Tiki Davis\, William Hollis\, and Joe Beene team up to give you a powerful event about overcoming life events. The Bigger Than Football tour coming to a city near you.
URL:https://tikidavis.com/event/bigger-than-football/2020-03-10/
LOCATION:TBA
CATEGORIES:Conference,Speaking
ATTACH;FMTTYPE=image/jpeg:https://tikidavis.com/wp-content/uploads/ShitTalking.jpg
END:VEVENT
END:VCALENDAR