BEGIN:VCALENDAR
VERSION:2.0
PRODID:-//Tiki Davis - ECPv6.15.20//NONSGML v1.0//EN
CALSCALE:GREGORIAN
METHOD:PUBLISH
X-WR-CALNAME:Tiki Davis
X-ORIGINAL-URL:https://tikidavis.com
X-WR-CALDESC:Events for Tiki Davis
REFRESH-INTERVAL;VALUE=DURATION:PT1H
X-Robots-Tag:noindex
X-PUBLISHED-TTL:PT1H
BEGIN:VTIMEZONE
TZID:America/Chicago
BEGIN:DAYLIGHT
TZOFFSETFROM:-0600
TZOFFSETTO:-0500
TZNAME:CDT
DTSTART:20200308T080000
END:DAYLIGHT
BEGIN:STANDARD
TZOFFSETFROM:-0500
TZOFFSETTO:-0600
TZNAME:CST
DTSTART:20201101T070000
END:STANDARD
BEGIN:DAYLIGHT
TZOFFSETFROM:-0600
TZOFFSETTO:-0500
TZNAME:CDT
DTSTART:20210314T080000
END:DAYLIGHT
BEGIN:STANDARD
TZOFFSETFROM:-0500
TZOFFSETTO:-0600
TZNAME:CST
DTSTART:20211107T070000
END:STANDARD
BEGIN:DAYLIGHT
TZOFFSETFROM:-0600
TZOFFSETTO:-0500
TZNAME:CDT
DTSTART:20220313T080000
END:DAYLIGHT
BEGIN:STANDARD
TZOFFSETFROM:-0500
TZOFFSETTO:-0600
TZNAME:CST
DTSTART:20221106T070000
END:STANDARD
BEGIN:DAYLIGHT
TZOFFSETFROM:-0600
TZOFFSETTO:-0500
TZNAME:CDT
DTSTART:20230312T080000
END:DAYLIGHT
BEGIN:STANDARD
TZOFFSETFROM:-0500
TZOFFSETTO:-0600
TZNAME:CST
DTSTART:20231105T070000
END:STANDARD
BEGIN:DAYLIGHT
TZOFFSETFROM:-0600
TZOFFSETTO:-0500
TZNAME:CDT
DTSTART:20240310T080000
END:DAYLIGHT
BEGIN:STANDARD
TZOFFSETFROM:-0500
TZOFFSETTO:-0600
TZNAME:CST
DTSTART:20241103T070000
END:STANDARD
BEGIN:DAYLIGHT
TZOFFSETFROM:-0600
TZOFFSETTO:-0500
TZNAME:CDT
DTSTART:20250309T080000
END:DAYLIGHT
BEGIN:STANDARD
TZOFFSETFROM:-0500
TZOFFSETTO:-0600
TZNAME:CST
DTSTART:20251102T070000
END:STANDARD
BEGIN:DAYLIGHT
TZOFFSETFROM:-0600
TZOFFSETTO:-0500
TZNAME:CDT
DTSTART:20260308T080000
END:DAYLIGHT
BEGIN:STANDARD
TZOFFSETFROM:-0500
TZOFFSETTO:-0600
TZNAME:CST
DTSTART:20261101T070000
END:STANDARD
END:VTIMEZONE
BEGIN:VEVENT
DTSTART;TZID=America/Chicago:20250819T080000
DTEND;TZID=America/Chicago:20250819T170000
DTSTAMP:20260423T090740
CREATED:20250814T212722Z
LAST-MODIFIED:20250814T212747Z
UID:10000068-1755590400-1755622800@tikidavis.com
SUMMARY:Tiki Davis Speaking at Georgia State University
DESCRIPTION:Speaking to the GSU Football team on overcoming adversity.
URL:https://tikidavis.com/event/speaking-at-georgia-state-university/
LOCATION:Georgia State University Football\, 755 Hank Aaron Drive SE\, Atlanta\, Georgia\, 30315\, United States
ATTACH;FMTTYPE=image/webp:https://tikidavis.com/wp-content/uploads/promo_450x250.webp
END:VEVENT
BEGIN:VEVENT
DTSTART;TZID=America/Chicago:20240323T173000
DTEND;TZID=America/Chicago:20240323T200000
DTSTAMP:20260423T090740
CREATED:20240229T010757Z
LAST-MODIFIED:20240229T010955Z
UID:10000067-1711215000-1711224000@tikidavis.com
SUMMARY:SRSU Hall of Honor Inductees announced ceremony is on March 23
DESCRIPTION:Distinguished graduates and athletes will be honored by Sul Ross State University at the 36th Annual Hall of Honor celebration on Saturday\, March 23.  \n\n\n\n \n\n\n\nNine inductees make up this year’s class\, which are nominated and then chosen by the SRSU Alumni Association Board of Directors and representatives of the Department of Athletics and the College of Agriculture\, Life and Physical Sciences (ALPS).  \n\n\n\nThe event will be held at the Granada Theatre in Alpine and begins with a cocktail hour at 5:30 p.m.\, followed by dinner and the ceremony.  \n\n\n\nTickets can be purchased online at https://www.sulross.edu/alumni/lobo-night \n\n\n\n \n\n\n\nInductees include the following Distinguished Alumni:  \n\n\n\nTiki Davis\, Class of 2003 and 2005  \n\n\n\n\n\n\n\nDavis came to Sul Ross as a Lobo football player in 1999 and earned his bachelor’s degree in 2003\, followed by a master’s degree in 2005. He was the Homecoming King in 2000.  \n\n\n\nTransitioning from the football field to the silver screen\, he found himself in the iconic movie “Friday Night Lights” as a principal actor\, marking the beginning of his diverse career path. He then excelled as one of the top oil and gas engineers in the Permian Basin\, eventually founding TDC Frac Solutions and Equipment.  \n\n\n\nBranching out into real estate and entrepreneurship\, Davis’ ventures expanded to include property flipping and the establishment of TD Construction\, specializing in building homes for communities in need. With a passion for culinary arts\, he ventured into the restaurant industry\, acquiring several barbecue establishments\, before ultimately finding his true calling.  \n\n\n\nSeven years ago\, Davis embarked on his most rewarding venture yet – inspiring and empowering others through keynote speeches and leaving a profound impact on individuals of all ages and backgrounds.  \n\n\n\nIn Odessa\, he was named Man of the Year in 2013 and Business Person of the Year in 2018. Davis delivered the keynote address for spring commencement at SRSU in May 2023. His legacy reached its pinnacle in 2024 when he was bestowed with a Lifetime Achievement Award by the President of the United States and with the conferral of an honorary Doctorate in Humanities. 
URL:https://tikidavis.com/event/srsu-hall-of-honor-inductees-announced-ceremony-is-on-march-23/
LOCATION:Granada Theatre\, 207 E. Holland\, Alpine\, Texas\, 79830\, United States
ATTACH;FMTTYPE=image/png:https://tikidavis.com/wp-content/uploads/Screenshot-2024-02-28-at-7.56.03 PM.png
END:VEVENT
BEGIN:VEVENT
DTSTART;TZID=America/Chicago:20231203T080000
DTEND;TZID=America/Chicago:20231203T170000
DTSTAMP:20260423T090740
CREATED:20231130T172924Z
LAST-MODIFIED:20231130T172925Z
UID:10000066-1701590400-1701622800@tikidavis.com
SUMMARY:PRESIDENTIAL LIFETIME ACHIEVEMENT AWARDS
DESCRIPTION:PRESENTED BYDR. SONIA R. WHITE USAF Veteran Founder of the S.M.I.L.E. Foundation\, Inc. S.M.I.L.E. FOUNDATION INC. HOUSTON\, TX \n\n\n\nPROCEEDS TO BENEFITTHE S.M.I.L.E. Foundation 501(c)3Mentoring and S.T.E.M. for youth
URL:https://tikidavis.com/event/presidential-lifetime-achievement-awards/
LOCATION:Georgia
END:VEVENT
BEGIN:VEVENT
DTSTART;TZID=America/Chicago:20230829T080000
DTEND;TZID=America/Chicago:20230829T170000
DTSTAMP:20260423T090740
CREATED:20230128T154506Z
LAST-MODIFIED:20230128T154516Z
UID:10000064-1693296000-1693328400@tikidavis.com
SUMMARY:Tiki Davis Speaks At Chevron in Houston Texas
DESCRIPTION:
URL:https://tikidavis.com/event/tiki-davis-speaks-at-chevron-in-houston-texas/
LOCATION:Georgia
ATTACH;FMTTYPE=image/jpeg:https://tikidavis.com/wp-content/uploads/Near_1400_Louisiana_1400_Smith_-_panoramio.jpg
END:VEVENT
BEGIN:VEVENT
DTSTART;TZID=America/Chicago:20230519T080000
DTEND;TZID=America/Chicago:20230519T170000
DTSTAMP:20260423T090740
CREATED:20230128T154733Z
LAST-MODIFIED:20230128T154734Z
UID:10000065-1684483200-1684515600@tikidavis.com
SUMMARY:Tiki Davis Speaks at Graduation commencement Sul Ross State University
DESCRIPTION:Graduation commencementSul Ross State University
URL:https://tikidavis.com/event/tiki-davis-speaks-at-graduation-commencement-sul-ross-state-university/
LOCATION:Georgia
ATTACH;FMTTYPE=image/jpeg:https://tikidavis.com/wp-content/uploads/41985127394_4668818686_c.jpg
END:VEVENT
BEGIN:VEVENT
DTSTART;TZID=America/Chicago:20221220T080000
DTEND;TZID=America/Chicago:20221220T170000
DTSTAMP:20260423T090740
CREATED:20221220T171928Z
LAST-MODIFIED:20221220T171929Z
UID:10000063-1671523200-1671555600@tikidavis.com
SUMMARY:Tiki Davis Sul Ross State University TBA
DESCRIPTION:
URL:https://tikidavis.com/event/tiki-davis-sul-ross-state-university-tba/
LOCATION:Georgia
ATTACH;FMTTYPE=image/webp:https://tikidavis.com/wp-content/uploads/sul20ross_1518721017109.jpg_34278620_ver1.0.webp
END:VEVENT
BEGIN:VEVENT
DTSTART;TZID=America/Chicago:20221220T080000
DTEND;TZID=America/Chicago:20221220T170000
DTSTAMP:20260423T090740
CREATED:20221220T171633Z
LAST-MODIFIED:20221220T171634Z
UID:10000062-1671523200-1671555600@tikidavis.com
SUMMARY:Tiki Davis Speaks Kansas University TBA
DESCRIPTION:
URL:https://tikidavis.com/event/tiki-davis-speaks-kansas-university-tba/
LOCATION:Georgia
ATTACH;FMTTYPE=image/webp:https://tikidavis.com/wp-content/uploads/MTk0MTE4OTM1NDU1NDc1MjA1.webp
END:VEVENT
BEGIN:VEVENT
DTSTART;TZID=America/Chicago:20221101T080000
DTEND;TZID=America/Chicago:20221101T170000
DTSTAMP:20260423T090740
CREATED:20220924T202622Z
LAST-MODIFIED:20220924T202623Z
UID:10000061-1667289600-1667322000@tikidavis.com
SUMMARY:Grambling  State University
DESCRIPTION:
URL:https://tikidavis.com/event/grambling-state-university/
LOCATION:Georgia
ATTACH;FMTTYPE=image/png:https://tikidavis.com/wp-content/uploads/Grambling_State_Tigers_logo.png
END:VEVENT
BEGIN:VEVENT
DTSTART;TZID=America/Chicago:20221005T190000
DTEND;TZID=America/Chicago:20221005T190000
DTSTAMP:20260423T090740
CREATED:20220924T201902Z
LAST-MODIFIED:20220924T201903Z
UID:10000059-1664996400-1664996400@tikidavis.com
SUMMARY:TIKI DAVIS AND THE TIKI FACTORSPONSORED BY TITLE 1 FAMILYENGAGEMENT FUNDS
DESCRIPTION:
URL:https://tikidavis.com/event/tiki-davis-and-the-tiki-factorsponsored-by-title-1-familyengagement-funds/
LOCATION:WAYLAND AUDITORIUM\, 1900 W. 7th\, Plainview\, Texas\, 79072\, United States
ATTACH;FMTTYPE=image/jpeg:https://tikidavis.com/wp-content/uploads/76749.jpeg
END:VEVENT
BEGIN:VEVENT
DTSTART;TZID=America/Chicago:20220927T113000
DTEND;TZID=America/Chicago:20220927T113000
DTSTAMP:20260423T090740
CREATED:20220924T202339Z
LAST-MODIFIED:20220924T202340Z
UID:10000060-1664278200-1664278200@tikidavis.com
SUMMARY:PERMIAN HIGH SCHOOL (MOJO)
DESCRIPTION:
URL:https://tikidavis.com/event/permian-high-school-mojo/
LOCATION:Georgia
ATTACH;FMTTYPE=image/png:https://tikidavis.com/wp-content/uploads/permian.png
END:VEVENT
BEGIN:VEVENT
DTSTART;TZID=America/Chicago:20220913T100000
DTEND;TZID=America/Chicago:20220914T170000
DTSTAMP:20260423T090740
CREATED:20181128T214840Z
LAST-MODIFIED:20181128T230305Z
UID:10000048-1663063200-1663174800@tikidavis.com
SUMMARY:Bigger Than Football
DESCRIPTION:Tiki Davis\, William Hollis\, and Joe Beene team up to give you a powerful event about overcoming life events. The Bigger Than Football tour coming to a city near you.
URL:https://tikidavis.com/event/bigger-than-football/2022-09-13/
LOCATION:TBA
CATEGORIES:Conference,Speaking
ATTACH;FMTTYPE=image/jpeg:https://tikidavis.com/wp-content/uploads/ShitTalking.jpg
END:VEVENT
BEGIN:VEVENT
DTSTART;TZID=America/Chicago:20220820T080000
DTEND;TZID=America/Chicago:20220820T170000
DTSTAMP:20260423T090740
CREATED:20220728T030849Z
LAST-MODIFIED:20220728T030850Z
UID:10000058-1660982400-1661014800@tikidavis.com
SUMMARY:Lawyers retreat Miami Florida Keynote Speaker
DESCRIPTION:
URL:https://tikidavis.com/event/lawyers-retreat-miami-florida-keynote-speaker/
LOCATION:Georgia
END:VEVENT
BEGIN:VEVENT
DTSTART;TZID=America/Chicago:20220812T080000
DTEND;TZID=America/Chicago:20220812T170000
DTSTAMP:20260423T090740
CREATED:20220728T030627Z
LAST-MODIFIED:20220728T030629Z
UID:10000057-1660291200-1660323600@tikidavis.com
SUMMARY:Sam Houston State University
DESCRIPTION:
URL:https://tikidavis.com/event/sam-houston-state-university/
LOCATION:Georgia
ATTACH;FMTTYPE=image/jpeg:https://tikidavis.com/wp-content/uploads/SpiritRec3.jpg
END:VEVENT
BEGIN:VEVENT
DTSTART;TZID=America/Chicago:20220809T100000
DTEND;TZID=America/Chicago:20220810T170000
DTSTAMP:20260423T090740
CREATED:20181128T214840Z
LAST-MODIFIED:20181128T230305Z
UID:10000047-1660039200-1660150800@tikidavis.com
SUMMARY:Bigger Than Football
DESCRIPTION:Tiki Davis\, William Hollis\, and Joe Beene team up to give you a powerful event about overcoming life events. The Bigger Than Football tour coming to a city near you.
URL:https://tikidavis.com/event/bigger-than-football/2022-08-09/
LOCATION:TBA
CATEGORIES:Conference,Speaking
ATTACH;FMTTYPE=image/jpeg:https://tikidavis.com/wp-content/uploads/ShitTalking.jpg
END:VEVENT
BEGIN:VEVENT
DTSTART;TZID=America/Chicago:20220802T080000
DTEND;TZID=America/Chicago:20220802T170000
DTSTAMP:20260423T090740
CREATED:20220728T030428Z
LAST-MODIFIED:20220728T030429Z
UID:10000056-1659427200-1659459600@tikidavis.com
SUMMARY:University of Texas El Paso
DESCRIPTION:
URL:https://tikidavis.com/event/university-of-texas-el-paso/
LOCATION:Georgia
ATTACH;FMTTYPE=image/jpeg:https://tikidavis.com/wp-content/uploads/UTEP-football-860x484-1.jpg
END:VEVENT
BEGIN:VEVENT
DTSTART;TZID=America/Chicago:20220712T100000
DTEND;TZID=America/Chicago:20220713T170000
DTSTAMP:20260423T090740
CREATED:20181128T214840Z
LAST-MODIFIED:20181128T230305Z
UID:10000046-1657620000-1657731600@tikidavis.com
SUMMARY:Bigger Than Football
DESCRIPTION:Tiki Davis\, William Hollis\, and Joe Beene team up to give you a powerful event about overcoming life events. The Bigger Than Football tour coming to a city near you.
URL:https://tikidavis.com/event/bigger-than-football/2022-07-12/
LOCATION:TBA
CATEGORIES:Conference,Speaking
ATTACH;FMTTYPE=image/jpeg:https://tikidavis.com/wp-content/uploads/ShitTalking.jpg
END:VEVENT
BEGIN:VEVENT
DTSTART;TZID=America/Chicago:20220614T100000
DTEND;TZID=America/Chicago:20220615T170000
DTSTAMP:20260423T090740
CREATED:20181128T214840Z
LAST-MODIFIED:20181128T230305Z
UID:10000045-1655200800-1655312400@tikidavis.com
SUMMARY:Bigger Than Football
DESCRIPTION:Tiki Davis\, William Hollis\, and Joe Beene team up to give you a powerful event about overcoming life events. The Bigger Than Football tour coming to a city near you.
URL:https://tikidavis.com/event/bigger-than-football/2022-06-14/
LOCATION:TBA
CATEGORIES:Conference,Speaking
ATTACH;FMTTYPE=image/jpeg:https://tikidavis.com/wp-content/uploads/ShitTalking.jpg
END:VEVENT
BEGIN:VEVENT
DTSTART;TZID=America/Chicago:20220606T000000
DTEND;TZID=America/Chicago:20220607T235959
DTSTAMP:20260423T090740
CREATED:20220419T013313Z
LAST-MODIFIED:20220419T013314Z
UID:10000055-1654473600-1654646399@tikidavis.com
SUMMARY:The TIKI Factor - Tiki Davis To Speak At Pittsburg Steelers
DESCRIPTION:
URL:https://tikidavis.com/event/the-tiki-factor-tiki-davis-to-speak-at-pittsburg-steelers/
LOCATION:Georgia
ATTACH;FMTTYPE=image/jpeg:https://tikidavis.com/wp-content/uploads/43028.jpeg
END:VEVENT
BEGIN:VEVENT
DTSTART;TZID=America/Chicago:20220510T100000
DTEND;TZID=America/Chicago:20220511T170000
DTSTAMP:20260423T090740
CREATED:20181128T214840Z
LAST-MODIFIED:20181128T230305Z
UID:10000044-1652176800-1652288400@tikidavis.com
SUMMARY:Bigger Than Football
DESCRIPTION:Tiki Davis\, William Hollis\, and Joe Beene team up to give you a powerful event about overcoming life events. The Bigger Than Football tour coming to a city near you.
URL:https://tikidavis.com/event/bigger-than-football/2022-05-10/
LOCATION:TBA
CATEGORIES:Conference,Speaking
ATTACH;FMTTYPE=image/jpeg:https://tikidavis.com/wp-content/uploads/ShitTalking.jpg
END:VEVENT
BEGIN:VEVENT
DTSTART;TZID=America/Chicago:20220412T100000
DTEND;TZID=America/Chicago:20220413T170000
DTSTAMP:20260423T090740
CREATED:20181128T214840Z
LAST-MODIFIED:20181128T230305Z
UID:10000043-1649757600-1649869200@tikidavis.com
SUMMARY:Bigger Than Football
DESCRIPTION:Tiki Davis\, William Hollis\, and Joe Beene team up to give you a powerful event about overcoming life events. The Bigger Than Football tour coming to a city near you.
URL:https://tikidavis.com/event/bigger-than-football/2022-04-12/
LOCATION:TBA
CATEGORIES:Conference,Speaking
ATTACH;FMTTYPE=image/jpeg:https://tikidavis.com/wp-content/uploads/ShitTalking.jpg
END:VEVENT
BEGIN:VEVENT
DTSTART;TZID=America/Chicago:20220308T100000
DTEND;TZID=America/Chicago:20220309T170000
DTSTAMP:20260423T090740
CREATED:20181128T214840Z
LAST-MODIFIED:20181128T230305Z
UID:10000042-1646733600-1646845200@tikidavis.com
SUMMARY:Bigger Than Football
DESCRIPTION:Tiki Davis\, William Hollis\, and Joe Beene team up to give you a powerful event about overcoming life events. The Bigger Than Football tour coming to a city near you.
URL:https://tikidavis.com/event/bigger-than-football/2022-03-08/
LOCATION:TBA
CATEGORIES:Conference,Speaking
ATTACH;FMTTYPE=image/jpeg:https://tikidavis.com/wp-content/uploads/ShitTalking.jpg
END:VEVENT
BEGIN:VEVENT
DTSTART;TZID=America/Chicago:20220208T100000
DTEND;TZID=America/Chicago:20220209T170000
DTSTAMP:20260423T090740
CREATED:20181128T214840Z
LAST-MODIFIED:20181128T230305Z
UID:10000041-1644314400-1644426000@tikidavis.com
SUMMARY:Bigger Than Football
DESCRIPTION:Tiki Davis\, William Hollis\, and Joe Beene team up to give you a powerful event about overcoming life events. The Bigger Than Football tour coming to a city near you.
URL:https://tikidavis.com/event/bigger-than-football/2022-02-08/
LOCATION:TBA
CATEGORIES:Conference,Speaking
ATTACH;FMTTYPE=image/jpeg:https://tikidavis.com/wp-content/uploads/ShitTalking.jpg
END:VEVENT
BEGIN:VEVENT
DTSTART;TZID=America/Chicago:20220111T100000
DTEND;TZID=America/Chicago:20220112T170000
DTSTAMP:20260423T090740
CREATED:20181128T214840Z
LAST-MODIFIED:20181128T230305Z
UID:10000040-1641895200-1642006800@tikidavis.com
SUMMARY:Bigger Than Football
DESCRIPTION:Tiki Davis\, William Hollis\, and Joe Beene team up to give you a powerful event about overcoming life events. The Bigger Than Football tour coming to a city near you.
URL:https://tikidavis.com/event/bigger-than-football/2022-01-11/
LOCATION:TBA
CATEGORIES:Conference,Speaking
ATTACH;FMTTYPE=image/jpeg:https://tikidavis.com/wp-content/uploads/ShitTalking.jpg
END:VEVENT
BEGIN:VEVENT
DTSTART;TZID=America/Chicago:20211214T100000
DTEND;TZID=America/Chicago:20211215T170000
DTSTAMP:20260423T090740
CREATED:20181128T214840Z
LAST-MODIFIED:20181128T230305Z
UID:10000039-1639476000-1639587600@tikidavis.com
SUMMARY:Bigger Than Football
DESCRIPTION:Tiki Davis\, William Hollis\, and Joe Beene team up to give you a powerful event about overcoming life events. The Bigger Than Football tour coming to a city near you.
URL:https://tikidavis.com/event/bigger-than-football/2021-12-14/
LOCATION:TBA
CATEGORIES:Conference,Speaking
ATTACH;FMTTYPE=image/jpeg:https://tikidavis.com/wp-content/uploads/ShitTalking.jpg
END:VEVENT
BEGIN:VEVENT
DTSTART;TZID=America/Chicago:20211207T080000
DTEND;TZID=America/Chicago:20211207T170000
DTSTAMP:20260423T090740
CREATED:20210820T164816Z
LAST-MODIFIED:20210820T164821Z
UID:10000054-1638864000-1638896400@tikidavis.com
SUMMARY:Tiki To Speak @ Pittsburg Steelers
DESCRIPTION:
URL:https://tikidavis.com/event/tiki-to-speak-pittsburg-steelers/
LOCATION:Georgia
END:VEVENT
BEGIN:VEVENT
DTSTART;TZID=America/Chicago:20211109T100000
DTEND;TZID=America/Chicago:20211110T170000
DTSTAMP:20260423T090740
CREATED:20181128T214840Z
LAST-MODIFIED:20181128T230305Z
UID:10000038-1636452000-1636563600@tikidavis.com
SUMMARY:Bigger Than Football
DESCRIPTION:Tiki Davis\, William Hollis\, and Joe Beene team up to give you a powerful event about overcoming life events. The Bigger Than Football tour coming to a city near you.
URL:https://tikidavis.com/event/bigger-than-football/2021-11-09/
LOCATION:TBA
CATEGORIES:Conference,Speaking
ATTACH;FMTTYPE=image/jpeg:https://tikidavis.com/wp-content/uploads/ShitTalking.jpg
END:VEVENT
BEGIN:VEVENT
DTSTART;TZID=America/Chicago:20211012T100000
DTEND;TZID=America/Chicago:20211013T170000
DTSTAMP:20260423T090740
CREATED:20181128T214840Z
LAST-MODIFIED:20181128T230305Z
UID:10000037-1634032800-1634144400@tikidavis.com
SUMMARY:Bigger Than Football
DESCRIPTION:Tiki Davis\, William Hollis\, and Joe Beene team up to give you a powerful event about overcoming life events. The Bigger Than Football tour coming to a city near you.
URL:https://tikidavis.com/event/bigger-than-football/2021-10-12/
LOCATION:TBA
CATEGORIES:Conference,Speaking
ATTACH;FMTTYPE=image/jpeg:https://tikidavis.com/wp-content/uploads/ShitTalking.jpg
END:VEVENT
BEGIN:VEVENT
DTSTART;TZID=America/Chicago:20210914T100000
DTEND;TZID=America/Chicago:20210915T170000
DTSTAMP:20260423T090740
CREATED:20181128T214840Z
LAST-MODIFIED:20181128T230305Z
UID:10000036-1631613600-1631725200@tikidavis.com
SUMMARY:Bigger Than Football
DESCRIPTION:Tiki Davis\, William Hollis\, and Joe Beene team up to give you a powerful event about overcoming life events. The Bigger Than Football tour coming to a city near you.
URL:https://tikidavis.com/event/bigger-than-football/2021-09-14/
LOCATION:TBA
CATEGORIES:Conference,Speaking
ATTACH;FMTTYPE=image/jpeg:https://tikidavis.com/wp-content/uploads/ShitTalking.jpg
END:VEVENT
BEGIN:VEVENT
DTSTART;TZID=America/Chicago:20210810T100000
DTEND;TZID=America/Chicago:20210811T170000
DTSTAMP:20260423T090740
CREATED:20181128T214840Z
LAST-MODIFIED:20181128T230305Z
UID:10000035-1628589600-1628701200@tikidavis.com
SUMMARY:Bigger Than Football
DESCRIPTION:Tiki Davis\, William Hollis\, and Joe Beene team up to give you a powerful event about overcoming life events. The Bigger Than Football tour coming to a city near you.
URL:https://tikidavis.com/event/bigger-than-football/2021-08-10/
LOCATION:TBA
CATEGORIES:Conference,Speaking
ATTACH;FMTTYPE=image/jpeg:https://tikidavis.com/wp-content/uploads/ShitTalking.jpg
END:VEVENT
BEGIN:VEVENT
DTSTART;TZID=America/Chicago:20210713T100000
DTEND;TZID=America/Chicago:20210714T170000
DTSTAMP:20260423T090740
CREATED:20181128T214840Z
LAST-MODIFIED:20181128T230305Z
UID:10000034-1626170400-1626282000@tikidavis.com
SUMMARY:Bigger Than Football
DESCRIPTION:Tiki Davis\, William Hollis\, and Joe Beene team up to give you a powerful event about overcoming life events. The Bigger Than Football tour coming to a city near you.
URL:https://tikidavis.com/event/bigger-than-football/2021-07-13/
LOCATION:TBA
CATEGORIES:Conference,Speaking
ATTACH;FMTTYPE=image/jpeg:https://tikidavis.com/wp-content/uploads/ShitTalking.jpg
END:VEVENT
END:VCALENDAR